BEGIN:VCALENDAR
VERSION:2.0
PRODID:-//wp-events-plugin.com//7.1.7//EN
TZID:Europe/Paris
X-WR-TIMEZONE:Europe/Paris
BEGIN:VEVENT
UID:0-296@atriumnormandie.fr
DTSTART;TZID=Europe/Paris;VALUE=DATE:20260413
DTEND;TZID=Europe/Paris;VALUE=DATE:20260427
DTSTAMP:20260408T114413Z
URL:https://atriumnormandie.fr/evenements/vacances-scolaires/
SUMMARY:Vacances de printemps - Programme d’activités à l’Atrium
DESCRIPTION:Réservez votre venue\nProgramme des activités\nVisites de l
 ’exposition Destination IA\nDécouvrir l’exposition immersive consacr
 ée à l’intelligence artificielle et au numérique.\n👨‍👩‍👧
  Visite famille – découvrir l’IA en s’amusant\nUne visite interacti
 ve pour comprendre l’intelligence artificielle en famille.\nÀ travers d
 es histoires\, des manipulations et des jeux\, petits et grands découvren
 t ce qu’est une IA\, comment elle apprend… et pourquoi elle peut parfo
 is se tromper.\nLe médiateur accompagne le groupe dans une exploration pa
 rticipative :\nreconnaître des images comme une IA\ncomprendre comment un
 e machine prend des décisions\nexpérimenter l’apprentissage automatiqu
 e\nUne approche accessible pour aborder des notions complexes tout en s’
 amusant.\n🗓️ Tous les jours à 16h⏱ Durée : 40 min à 1h👥 Publi
 c : familles – enfants et adultes\nRéservez votre visite\n🎤 Visite 
 – les coulisses de l’intelligence artificielle\nUne visite approfondie
  pour mieux comprendre le fonctionnement et les impacts de l’intelligenc
 e artificielle.\nAccompagné d’un médiateur\, le public explore les gra
 ndes notions de l’exposition dans l'espace IA : Double Je :\nhistoire de
  l’intelligence artificielle\, des premiers automates aux IA actuelles\n
 fonctionnement des algorithmes et du machine learning\nnotion de “boîte
  noire” et limites des systèmes\nimpacts environnementaux\, sociaux et 
 économiques\nLa visite s’appuie sur les dispositifs de l’exposition p
 our décrypter les mécanismes de l’IA et questionner la place qu’elle
  occupe dans nos sociétés.\nUn format conçu pour prendre le temps de co
 mprendre et échanger.\n🗓️ Samedi et dimanche à 14h30👥 Public : a
 dolescents\, adultes\, séniors\nRéservez votre visite\nEspace enfants 
 – apprendre le numérique en jouant\nUn espace dédié pour expérimente
 r\, manipuler et comprendre le numérique de manière ludique.\n👉 Sur p
 lace\, les enfants peuvent :\ntester Eulcat\, une intelligence artificiell
 e développée en Normandie\ncréer des images en pixel art\nexpérimenter
  les bases de la programmation avec le petit train\nmanipuler des robots\n
 profiter d’un coin lecture et d’un espace d’échange\n👥 Accès li
 bre pendant les horaires d’ouverture\nPlanétarium – séances spécial
 es vacances\nLe planétarium fait son retour pendant les vacances de print
 emps avec deux séances adaptées aux différents publics.\n🧸 Les avent
 ures de Ted l’astronaute\nUn conte astronomique interactif pour les plus
  jeunes.\nTed\, un ours explorateur\, entraîne les enfants à la découve
 rte du Soleil\, des planètes et de la Lune.\n🗓️ Lundi\, mardi\, jeud
 i\, vendredi à 11h🗓️ Mercredi à 15h👥 Public : 0 à 6 ans⏱ Dur
 ée : 20 min\nRéservez votre séance\n🚀 Parés au décollage !\nUn spe
 ctacle immersif pour découvrir le système solaire et la conquête spatia
 le.\nLe public embarque pour une mission à travers l’espace à la reche
 rche de la sonde Voyager 1\, avec des temps d’échange et des anecdotes 
 scientifiques.\n🗓️ Lundi\, mardi\, jeudi\, vendredi à 15h🗓️ Mer
 credi\, samedi\, dimanche à 17h👥 Public : dès 5 ans\nRéservez votre 
 séance\nPlanétarium\nLe planning des vacances\nVoici le planning de vos 
 activités du lundi 13 au dimanche 26 avril.
ATTACH;FMTTYPE=image/jpeg:https://atriumnormandie.fr/app/uploads/1/2024/10
 /Programme-vacances.png
CATEGORIES:Familles
END:VEVENT
BEGIN:VTIMEZONE
TZID:Europe/Paris
X-LIC-LOCATION:Europe/Paris
BEGIN:DAYLIGHT
DTSTART:20260329T030000
TZOFFSETFROM:+0100
TZOFFSETTO:+0200
TZNAME:CEST
END:DAYLIGHT
END:VTIMEZONE
END:VCALENDAR