BEGIN:VCALENDAR
VERSION:2.0
PRODID:-//wp-events-plugin.com//7.1.7//EN
TZID:Europe/Paris
X-WR-TIMEZONE:Europe/Paris
BEGIN:VEVENT
UID:0-292@atriumnormandie.fr
DTSTART;TZID=Europe/Paris:20241031T133000
DTEND;TZID=Europe/Paris:20241031T200000
DTSTAMP:20241015T140640Z
URL:https://atriumnormandie.fr/evenements/soiree-halloween/
SUMMARY:Soirée Halloween : Plongez dans les Mystères des Monstres Marins 
 !
DESCRIPTION:📅 Date : Jeudi 31 octobre 2024🕓 Heure : De 13h30 à 20h (
 ouverture spéciale)🎟️ Entrée gratuite pour tous !  En accès libre 
 sans réservation. Déguisements conseillés :) \nParticipez à l'enquête
  immersive \nPlongez dans l’exposition "Océan\, une plongée insolite e
 n Normandie" et devenez de véritables chasseurs de monstres ! \nVous devr
 ez distinguer les créatures légendaires des véritables animaux marins 
 à travers une enquête immersive au cœur des abysses.\nMonstre ou pas mo
 nstre ?Une version monstrueuse du célèbre “4 à la suite”. Saurez-vo
 us identifier les véritables monstres ?Tout public - Accès libre14h30\, 
 15h35\, 16h30\, 17h35\, 18h30 - Durée : environ 30 min.Visite enquête : 
 à la recherche des monstres marinsDevenez d’apprentis cryptozoologues e
 t partez à la recherche d’indices pour identifier les créatures mysté
 rieuses cachées dans l’exposition.A partir de 7 ans - Accès libre14h30
 \, 15h\, 15h30\, 16h\, 16h30\, 17h\, 17h30\, 18h\, 18h30 - Durée : enviro
 n 1h.Visite contéeEmbarquez vos petits explorateurs pour une aventure uni
 que à travers l'exposition "Océan” de l'Atrium.De 3 à 8 ans - Accès 
 libre15h\, 16h\, 17h\, 18h – Durée : environ 40 min.\nUne après-midi f
 estive pour toute la famille\nMaquillage (jusqu'à 18h)\nBonbons et surpri
 ses pour petits et grands\nDéguisements bienvenus ! Venez costumés et pr
 ofitez de cette journée d'Halloween unique !\nNe manquez pas cette journ
 ée gratuite dédiée à toute la famille. Venez percer les mystères des 
 océans et célébrer Halloween avec nous !
ATTACH;FMTTYPE=image/jpeg:https://atriumnormandie.fr/app/uploads/2024/10/H
 alloween-2.png
CATEGORIES:Familles
END:VEVENT
BEGIN:VTIMEZONE
TZID:Europe/Paris
X-LIC-LOCATION:Europe/Paris
BEGIN:STANDARD
DTSTART:20241027T020000
TZOFFSETFROM:+0200
TZOFFSETTO:+0100
TZNAME:CET
END:STANDARD
END:VTIMEZONE
END:VCALENDAR