BEGIN:VCALENDAR
VERSION:2.0
PRODID:-//wp-events-plugin.com//7.1.7//EN
TZID:Europe/Paris
X-WR-TIMEZONE:Europe/Paris
BEGIN:VEVENT
UID:0-318@atriumnormandie.fr
DTSTART;TZID=Europe/Paris:20250310T110000
DTEND;TZID=Europe/Paris:20250310T120000
DTSTAMP:20260113T101330Z
URL:https://atriumnormandie.fr/evenements/rencontre-avec-haifa-rabai/
SUMMARY:Rencontre avec Haïfa Rabai
DESCRIPTION:Public cible : À partir de la classe de 4eDurée : 1 heureCapa
 cité : Classe entière\nLe Thème de la Rencontre\nDans le cadre des "Ren
 contres avec une Experte"\, Haïfa Rabai\, Chief Data Officer chez&nbsp\;S
 ANOFI\, présente aux élèves les perspectives de la transformation numé
 rique de l'industrie pharmaceutique. L’occasion de découvrir des carri
 ères passionnantes dans un domaine en pleine évolution. Rendez-vous le 1
 0 mars 2025.\nPourquoi Participer ?\nCes rencontres personnalisées permet
 tent aux élèves de :\nDécouvrir des parcours inspirants : Chaque expert
  partage son expérience professionnelle\, son parcours de formation\, et 
 son engagement dans les sciences.\nÉchanger sur des thématiques scientif
 iques : Les élèves explorent des sujets tels que l'océanographie\, l'é
 cologie\, les sciences maritimes\, la biologie\, ou encore les technologie
 s de pointe.\nSe projeter dans des carrières scientifiques : Grâce aux t
 émoignages de chercheurs\, ingénieurs et doctorants\, les jeunes découv
 rent les nombreuses opportunités qui s'offrent à eux dans les sciences e
 t les technologies.\nEn partenariat avec Normandie Doc et les acteurs de l
 a filière maritime normande.\nRenseignements et réservations\nN'hésitez
  pas à nous contacter :- par téléphone au 02 35 98 91 06- par mail rese
 rvation@scienceaction.asso.fr- via sur le formulaire de contact
ATTACH;FMTTYPE=image/jpeg:https://atriumnormandie.fr/app/uploads/2025/02/F
 ormat-Prog-1.png
CATEGORIES:Cycle 4,Lycée,Rencontre avec
END:VEVENT
BEGIN:VTIMEZONE
TZID:Europe/Paris
X-LIC-LOCATION:Europe/Paris
BEGIN:STANDARD
DTSTART:20241027T020000
TZOFFSETFROM:+0200
TZOFFSETTO:+0100
TZNAME:CET
END:STANDARD
END:VTIMEZONE
END:VCALENDAR