BEGIN:VCALENDAR
VERSION:2.0
PRODID:-//wp-events-plugin.com//7.1.7//EN
TZID:Europe/Paris
X-WR-TIMEZONE:Europe/Paris
BEGIN:VEVENT
UID:0-294@atriumnormandie.fr
DTSTART;TZID=Europe/Paris:20241118T110000
DTEND;TZID=Europe/Paris:20241118T120000
DTSTAMP:20260113T101018Z
URL:https://atriumnormandie.fr/evenements/rencontre-avec-charlotte-cure/
SUMMARY:Rencontre avec Charlotte Curé
DESCRIPTION:Public cible : À partir de la classe de 4eDurée : 1 heureCapa
 cité : Classe entière\nLe Thème de la Rencontre\nDans le cadre de notre
  dispositif "Rencontre avec un Expert"\, Charlotte Curé\, directrice de r
 echerche en bioacoustique (UMRAE/Cerema - Univ Gustave Eiffel)\, emmène l
 es élèves dans une découverte des sons sous-marins. Ensemble\, ils expl
 oreront la question : l'océan est-il vraiment un monde de silence ? Une i
 nitiation unique pour comprendre comment la bioacoustique permet de percer
  les mystères de la vie marine. Rendez-vous le 18 novembre 2024.\nPourquo
 i Participer ?\nCes rencontres personnalisées permettent aux élèves de 
 :\nDécouvrir des parcours inspirants : Chaque expert partage son expérie
 nce professionnelle\, son parcours de formation\, et son engagement dans l
 es sciences.\nÉchanger sur des thématiques scientifiques : Les élèves 
 explorent des sujets tels que l'océanographie\, l'écologie\, les science
 s maritimes\, la biologie\, ou encore les technologies de pointe.\nSe proj
 eter dans des carrières scientifiques : Grâce aux témoignages de cherch
 eurs\, ingénieurs et doctorants\, les jeunes découvrent les nombreuses o
 pportunités qui s'offrent à eux dans les sciences et les technologies.\n
 En partenariat avec Normandie Doc et les acteurs de la filière maritime n
 ormande.\nRenseignements et réservations\nN'hésitez pas à nous contacte
 r :- par téléphone au 02 35 98 91 06- par mail reservation@scienceaction
 .asso.fr- via sur le formulaire de contact
ATTACH;FMTTYPE=image/jpeg:https://atriumnormandie.fr/app/uploads/2024/10/F
 ormat-Prog-3.png
CATEGORIES:Cycle 4,Lycée,Rencontre avec
END:VEVENT
BEGIN:VTIMEZONE
TZID:Europe/Paris
X-LIC-LOCATION:Europe/Paris
BEGIN:STANDARD
DTSTART:20241027T020000
TZOFFSETFROM:+0200
TZOFFSETTO:+0100
TZNAME:CET
END:STANDARD
END:VTIMEZONE
END:VCALENDAR