BEGIN:VCALENDAR
VERSION:2.0
PRODID:-//wp-events-plugin.com//7.1.7//EN
TZID:Europe/Paris
X-WR-TIMEZONE:Europe/Paris
BEGIN:VEVENT
UID:0-300@atriumnormandie.fr
DTSTART;TZID=Europe/Paris:20250113T110000
DTEND;TZID=Europe/Paris:20250113T120000
DTSTAMP:20260113T101131Z
URL:https://atriumnormandie.fr/evenements/rencontre-avec-averil-prost/
SUMMARY:Rencontre avec Averil Prost
DESCRIPTION:Public cible : À partir de la classe de 4eDurée : 1 heureCapa
 cité : Classe entière\nLe Thème de la Rencontre\nPour notre dispositif 
 "Rencontre avec un Expert"\, Averil Prost\, doctorante au laboratoire LMI 
 (INSA Rouen Normandie)\, propose une introduction aux équations différen
 tielles et leur utilité pour résoudre des problèmes complexes. En simpl
 ifiant les concepts\, elle montre aux élèves comment ces outils mathéma
 tiques peuvent résoudre des problèmes pratiques\, comme trouver un traje
 t optimal. Rendez-vous le 13 janvier 2025.\nPourquoi Participer ?\nCes ren
 contres personnalisées permettent aux élèves de :\nDécouvrir des parco
 urs inspirants : Chaque expert partage son expérience professionnelle\, s
 on parcours de formation\, et son engagement dans les sciences.\nÉchanger
  sur des thématiques scientifiques : Les élèves explorent des sujets te
 ls que l'océanographie\, l'écologie\, les sciences maritimes\, la biolog
 ie\, ou encore les technologies de pointe.\nSe projeter dans des carrière
 s scientifiques : Grâce aux témoignages de chercheurs\, ingénieurs et d
 octorants\, les jeunes découvrent les nombreuses opportunités qui s'offr
 ent à eux dans les sciences et les technologies.\nEn partenariat avec Nor
 mandie Doc et les acteurs de la filière maritime normande.\nRenseignement
 s et réservations\nN'hésitez pas à nous contacter :- par téléphone au
  02 35 98 91 06- par mail reservation@scienceaction.asso.fr- via sur le fo
 rmulaire de contact
ATTACH;FMTTYPE=image/jpeg:https://atriumnormandie.fr/app/uploads/2024/11/F
 ormat-Prog-3.png
CATEGORIES:Cycle 4,Lycée,Rencontre avec
END:VEVENT
BEGIN:VTIMEZONE
TZID:Europe/Paris
X-LIC-LOCATION:Europe/Paris
BEGIN:STANDARD
DTSTART:20241027T020000
TZOFFSETFROM:+0200
TZOFFSETTO:+0100
TZNAME:CET
END:STANDARD
END:VTIMEZONE
END:VCALENDAR