BEGIN:VCALENDAR
VERSION:2.0
PRODID:-//wp-events-plugin.com//7.1.7//EN
TZID:Europe/Paris
X-WR-TIMEZONE:Europe/Paris
BEGIN:VEVENT
UID:0-317@atriumnormandie.fr
DTSTART;TZID=Europe/Paris:20250224T110000
DTEND;TZID=Europe/Paris:20250224T120000
DTSTAMP:20260113T101214Z
URL:https://atriumnormandie.fr/evenements/rencontre-avec-aurelien-tocquevi
 lle/
SUMMARY:Rencontre avec Aurélien Tocqueville
DESCRIPTION:Public cible : À partir de la classe de 4eDurée : 1 heureCapa
 cité : Classe entière\nLe Thème de la Rencontre\nDans le cadre des "Ren
 contres avec un Expert"\, Aurélien Tocqueville\, Ingénieur responsable d
 u Service Aquaculture à l’Institut Technique des filières avicole\, cu
 nicole et piscicole\, emmène les élèves en immersion dans la filière a
 quacole. L’occasion de découvrir des carrières passionnantes et de ré
 fléchir aux futures opportunités professionnelles offertes par ce domain
 e. Rendez-vous le 24 février 2025.\nPourquoi Participer ?\nCes rencontres
  personnalisées permettent aux élèves de :\nDécouvrir des parcours ins
 pirants : Chaque expert partage son expérience professionnelle\, son parc
 ours de formation\, et son engagement dans les sciences.\nÉchanger sur de
 s thématiques scientifiques : Les élèves explorent des sujets tels que 
 l'océanographie\, l'écologie\, les sciences maritimes\, la biologie\, ou
  encore les technologies de pointe.\nSe projeter dans des carrières scien
 tifiques : Grâce aux témoignages de chercheurs\, ingénieurs et doctoran
 ts\, les jeunes découvrent les nombreuses opportunités qui s'offrent à 
 eux dans les sciences et les technologies.\nEn partenariat avec Normandie 
 Doc et les acteurs de la filière maritime normande.\nRenseignements et r
 éservations\nN'hésitez pas à nous contacter :- par téléphone au 02 35
  98 91 06- par mail reservation@scienceaction.asso.fr- via sur le formulai
 re de contact
ATTACH;FMTTYPE=image/jpeg:https://atriumnormandie.fr/app/uploads/2025/02/1
 3-copie-2.png
CATEGORIES:Cycle 4,Lycée,Rencontre avec
END:VEVENT
BEGIN:VTIMEZONE
TZID:Europe/Paris
X-LIC-LOCATION:Europe/Paris
BEGIN:STANDARD
DTSTART:20241027T020000
TZOFFSETFROM:+0200
TZOFFSETTO:+0100
TZNAME:CET
END:STANDARD
END:VTIMEZONE
END:VCALENDAR