BEGIN:VCALENDAR
VERSION:2.0
PRODID:-//wp-events-plugin.com//7.1.7//EN
TZID:Europe/Paris
X-WR-TIMEZONE:Europe/Paris
BEGIN:VEVENT
UID:0-325@atriumnormandie.fr
DTSTART;TZID=Europe/Paris:20260518T200000
DTEND;TZID=Europe/Paris:20260518T220000
DTSTAMP:20260413T100904Z
URL:https://atriumnormandie.fr/evenements/pint-of-science/
SUMMARY:Conférences Pint of Science : ouvrir la boîte noire de l’IA
DESCRIPTION:Réservez votre place\nInfos pratiques\n📍 Lieu : L’Atrium
 📅 Date : lundi 18 mai 2026⏰ Horaires : ouverture des portes 19h30 –
  début 20h – fin vers 22h⏱ Durée : environ 2h👥 Public : grand pub
 lic🎟 Tarif et réservation : https://pintofscience.fr/event/ouvrir-la-b
 oite-noire/\n👉 Autres soirées du festival à Rouen : https://pintofsci
 ence.fr/events/rouen/\nComprendre l’intelligence artificielle au-delà d
 es idées reçues\nL’intelligence artificielle occupe aujourd’hui une 
 place centrale dans nos usages numériques. \nPourtant\, son fonctionnemen
 t reste souvent mal compris !\nCette soirée propose d’explorer les méc
 anismes de l’IA\, ses évolutions et ses applications concrètes\, à tr
 avers deux interventions accessibles et complémentaires.\nDeux regards po
 ur décrypter l’IA\nReconnaissance d’écriture\, par Tom Simon (doctor
 ant)\nComment une machine peut-elle lire une écriture manuscrite parfois 
 difficile à déchiffrer ?\nCette intervention retrace l’évolution des 
 technologies de reconnaissance manuscrite et explore les défis actuels\, 
 notamment la compréhension de langages inconnus et les avancées du in-co
 ntext learning.\nIA : comprendre pour démystifier\, par Pierrick Tranouez
  (ingénieur de recherche)\nDe la mécanisation de la pensée aux modèles
  de langage actuels\, cette conférence revient sur les grandes étapes de
  l’IA. \nElle aborde ses principes (raisonnement\, perception\, apprenti
 ssage profond) et ses applications : véhicules autonomes\, reconnaissance
  d’images ou génération de texte.\nUn événement dans le cadre du fes
 tival Pint of Science\nCréé en 2012\, le festival Pint of Science propos
 e de faire sortir la science des laboratoires pour la rendre accessible da
 ns des lieux conviviaux.\nL’édition 2026 se déroule du 18 au 20 mai da
 ns plus de 60 villes en France\, dont Rouen.\nChaque soirée propose des r
 encontres directes avec des scientifiques autour de thématiques variées.
 \nRéservez votre place
ATTACH;FMTTYPE=image/jpeg:https://atriumnormandie.fr/app/uploads/1/2025/04
 /Banniere-Pint-of-Science.png
CATEGORIES:Familles
END:VEVENT
BEGIN:VTIMEZONE
TZID:Europe/Paris
X-LIC-LOCATION:Europe/Paris
BEGIN:DAYLIGHT
DTSTART:20260329T030000
TZOFFSETFROM:+0100
TZOFFSETTO:+0200
TZNAME:CEST
END:DAYLIGHT
END:VTIMEZONE
END:VCALENDAR