BEGIN:VCALENDAR
VERSION:2.0
PRODID:-//wp-events-plugin.com//7.1.7//EN
TZID:Europe/Paris
X-WR-TIMEZONE:Europe/Paris
BEGIN:VEVENT
UID:0-283@atriumnormandie.fr
DTSTART;TZID=Europe/Paris;VALUE=DATE:20241004
DTEND;TZID=Europe/Paris;VALUE=DATE:20241015
DTSTAMP:20241010T072018Z
URL:https://atriumnormandie.fr/evenements/latrium-en-fete-familles-curieux
 /
SUMMARY:L'Atrium en Fête - Familles &amp\; Curieux
DESCRIPTION:La Fête de la Science\nParticipez au plus grand festival scien
 tifique en Normandie ! La Fête de la Science revient du 4 au 14 octobre 2
 024 avec plus de 280 opérations au programme. En Normandie\, cet événem
 ent est co-coordonné par Le Dôme et Science Action Normandie\, avec le s
 outien de l'État\, de l’Académie de Normandie\, et de nombreux partena
 ires régionaux.\nChaque année\, des milliers de chercheurs\, entrepreneu
 rs et médiateurs se mobilisent pour offrir des expériences interactives\
 , des démonstrations et des ateliers captivants. Venez en famille pour pa
 rtager des moments de découverte et d’émerveillement\, et faites naît
 re des vocations scientifiques chez les plus jeunes. En Normandie\, la Fê
 te de la Science attire plus de 45 000 visiteurs grâce à la mobilisation
  de 500 structures.\nThématique 2024 : Océan de Savoirs\nCette année\, 
 la Fête de la Science met à l'honneur l'océan avec le thème "Océan de
  Savoirs". Les familles pourront découvrir comment l'océan\, couvrant 70
 % de la surface de notre planète et contenant 97% de l'eau sur Terre\, jo
 ue un rôle central dans l'avenir de la Terre et de l'Humanité. La France
 \, avec ses 20 000 kilomètres de côtes et ses 10 millions de kilomètres
  carrés de surface maritime\, est en première ligne pour explorer et pro
 téger cet immense patrimoine.\nLes familles seront sensibilisées à l'im
 portance de la biodiversité marine et aux recherches en cours pour une ge
 stion durable des ressources marines. Ils apprendront comment l'océan ré
 gule notre climat et découvriront les nombreux défis auxquels il est con
 fronté\, comme la pollution et les changements climatiques. Ensemble\, pa
 rents et enfants pourront explorer les disciplines scientifiques mobilisé
 es pour étudier cet écosystème vital\, et comprendre l'importance de pr
 otéger notre patrimoine maritime pour les générations futures. La thém
 atique "Océan de Savoirs" est une invitation à repousser les horizons de
  nos connaissances scientifiques\, en mettant en lumière l'importance de 
 la préservation de notre patrimoine maritime pour les générations futur
 es.\nDécouvrez l’exposition “Océan\, une plongée insolite en Norman
 die”\nL’Atrium vous ouvre ses portes gratuitement tous les jours pour 
 découvrir l’exposition “Océan\, une plongée insolite en Normandie
 ”. \nPartez pour un voyage merveilleux et surprenant\, des fonds océani
 ques jusqu’à la Normandie. \nPlongez au milieu du plancton\, composé d
 ’organismes microscopiques essentiels à l’équilibre écologique de l
 a Terre. \nMontez à bord du nautile\, prenez les commandes et explorez le
 s prouesses technologiques réalisées par l’Homme pour percer les myst
 ères de l’océan. \nRencontrez l’incroyable faune de l'océan austral
 \, adaptée aux milieux extrêmes\, et découvrez les relations complexes 
 entre les Hommes et la biodiversité marine. \nTout au long de votre parco
 urs\, vous serez sensibilisés à la fragilité de l’océan\, dont les a
 bysses restent encore largement inexplorées. \nProfitez également des fo
 rmats de visite insolites comme la visite contée et l’escape game lors 
 de votre venue en accès gratuit.\nNos horaires pendant la Fête de la Sci
 ence  \nDu 4 au 14 octobre 2024\nLundi &gt\; 9h00 - 17h00\nMardi &gt\; 9h0
 0 - 17h00\nMercredi &gt\; 14h00 - 18h00\nJeudi &gt\; 9h00 - 17h00\nVendred
 i &gt\; 9h00 - 17h00\nSamedi &gt\; 14h00 - 18h00\nDimanche &gt\; 14h00 - 1
 8h00
ATTACH;FMTTYPE=image/jpeg:https://atriumnormandie.fr/app/uploads/2024/07/F
 estival_Atrium_En_Fete_FDS24_RS_post_1080x1080-copie.png
CATEGORIES:Familles
END:VEVENT
BEGIN:VTIMEZONE
TZID:Europe/Paris
X-LIC-LOCATION:Europe/Paris
BEGIN:DAYLIGHT
DTSTART:20240331T030000
TZOFFSETFROM:+0100
TZOFFSETTO:+0200
TZNAME:CEST
END:DAYLIGHT
END:VTIMEZONE
END:VCALENDAR