BEGIN:VCALENDAR
VERSION:2.0
PRODID:-//wp-events-plugin.com//7.1.7//EN
TZID:Europe/Paris
X-WR-TIMEZONE:Europe/Paris
BEGIN:VEVENT
UID:0-284@atriumnormandie.fr
DTSTART;TZID=Europe/Paris:20241007T133000
DTEND;TZID=Europe/Paris:20241007T160000
DTSTAMP:20260113T100919Z
URL:https://atriumnormandie.fr/evenements/lancement-regional-fete-de-la-sc
 ience/
SUMMARY:Découvrez les métiers de la mer au Lycée Maritime de Fécamp
DESCRIPTION:Détails de l'évènement \nDate : 7 octobre 2024Lieu : Lycée 
 maritime de Fécamp Horaire : 13h30 - 16h00Public cible : Élèves de 4e e
 t 3eModalités : Événement gratuit avec possibilité de prise en charge 
 du transport\nAvec ses plus de 600 km de côtes\, la Normandie possède un
 e identité maritime forte\, qui se traduit par une expertise reconnue en 
 recherche sur le milieu marin\, une économie bleue dynamique et des oppor
 tunités de carrière souvent méconnues des jeunes. À l'occasion de la F
 ête de la Science\, offrez à vos élèves un bol d'air marin en particip
 ant au programme festif du Lycée Maritime Anita Conti. Ce programme perme
 ttra à vos élèves de rencontrer des professionnels de la recherche et d
 e la filière maritime\, de mieux appréhender leur orientation et de part
 iciper à divers ateliers du marin. Une occasion unique d'ouvrir de nouvea
 ux horizons à vos élèves !\nLe Lycée Maritime Anita Conti à l’honne
 ur\nConstruit en 1997 et installé au cœur de la zone portuaire de Fécam
 p\, face aux bassins\, le lycée maritime Anita Conti est un établissemen
 t emblématique de la formation maritime en Normandie. Chaque année\, il 
 accueille une centaine de jeunes\, du BAC PRO au BTS. Nommé en l'honneur 
 d'Anita Conti\, la première femme océanographe française et pionnière 
 de l'exploration des océans\, ce lycée se distingue par son offre éduca
 tive spécialisée dans les métiers de la mer et adaptée aux besoins de 
 l’industrie maritime.\nLa Fête de la Science\nLa Fête de la Science es
 t le plus grand festival scientifique en Normandie. Chaque édition donne 
 lieu à un lancement régional\, et cette année\, l'événement est organ
 isé par Science Action Normandie. L'objectif est de promouvoir la Fête d
 e la Science\, de valoriser les acteurs locaux de l'enseignement supérieu
 r et de la recherche\, et de fédérer les différents participants autour
  de la culture scientifique.\nThématique 2024 - Océan de Savoirs\nLa th
 ématique "Océan de Savoirs" s'inscrit dans l'Année de la mer\, en lien 
 avec la troisième Conférence des Nations unies sur l’océan à Nice en
  2025. Cette thématique met en lumière le rôle crucial de l'océan dans
  la régulation du climat\, la biodiversité marine et les ressources natu
 relles. En explorant des domaines variés tels que les sciences fondamenta
 les\, les énergies renouvelables\, les biotechnologies marines et les sci
 ences humaines\, "Océan de Savoirs" vise à sensibiliser les jeunes aux d
 éfis et aux opportunités liés à l'océan. Les élèves découvriront c
 omment les recherches actuelles et les innovations technologiques peuvent 
 contribuer à la protection et à la gestion durable de cet environnement 
 vital.\nProgramme détaillé\n13h30 - 14h00 : Accueil et Conférence\nMot 
 d'accueil et conférence par Bastien Lemaire\, ambassadeur normand de la F
 ête de la Science 2024 et chercheur post-doctorant au laboratoire EthoS d
 e l’Université Caen Normandie. Découvrez ses recherches fascinantes su
 r l'éthologie animale.\n14h15 - 16h00 : Ateliers et Visites\nLes élèves
  seront divisés en groupes pour participer aux activités suivantes :\n1e
 r Groupe :\nVisite du Lycée maritime Anita Conti\nAtelier "Orientation et
  métiers - Filière maritime" par l’Agence régionale de l’Orientatio
 n et des Métiers\n2e Groupe :\nVisite du Lycée maritime Anita Conti\nRen
 contre avec deux femmes inspirantes de la filière maritime par Wista Fran
 ce\n3e Groupe :\nAtelier "Orientation et métiers - Filière maritime" par
  l’Agence régionale de l’Orientation et des Métiers\nVisite du Lycé
 e maritime Anita Conti\n4e Groupe :\nRencontre avec deux femmes inspirante
 s de la filière maritime par Wista France\nVisite du Lycée maritime Anit
 a Conti\nInfos pratiques  \nTransport :Des trains sont disponibles pour fa
 ciliter le déplacement des classes :\nRouen &gt\; Fécamp : Aller à 12h0
 4\, retour à 16h38\nLe Havre &gt\; Fécamp : Aller à 12h37\, retour à 1
 6h38\nLa gare de Fécamp est à 5-10 minutes de marche du lycée.\nRenseig
 nements et réservations\nN'hésitez pas à nous contacter :- par téléph
 one au 02 35 98 91 06- par mail reservation@scienceaction.asso.fr- via sur
  le formulaire de contact
ATTACH;FMTTYPE=image/jpeg:https://atriumnormandie.fr/app/uploads/2024/07/U
 n-programme-de-deux-jours-pour-deconstruire-les-stereotypes-lies-aux-carri
 eres-scientifiques-5.png
CATEGORIES:Scolaire
LOCATION:Lycée Maritime de Fécamp\, 84 quai Guy de Maupassant 76400 Féca
 mp\, France
X-APPLE-STRUCTURED-LOCATION;VALUE=URI;X-ADDRESS=84 quai Guy de Maupassant 7
 6400 Fécamp\, France;X-APPLE-RADIUS=100;X-TITLE=Lycée Maritime de Fécam
 p:geo:0,0
END:VEVENT
BEGIN:VTIMEZONE
TZID:Europe/Paris
X-LIC-LOCATION:Europe/Paris
BEGIN:DAYLIGHT
DTSTART:20240331T030000
TZOFFSETFROM:+0100
TZOFFSETTO:+0200
TZNAME:CEST
END:DAYLIGHT
END:VTIMEZONE
END:VCALENDAR