BEGIN:VCALENDAR
VERSION:2.0
PRODID:-//wp-events-plugin.com//7.1.7//EN
TZID:Europe/Paris
X-WR-TIMEZONE:Europe/Paris
BEGIN:VEVENT
UID:0-273@atriumnormandie.fr
DTSTART;TZID=Europe/Paris:20260321T143000
DTEND;TZID=Europe/Paris:20260321T170000
DTSTAMP:20260310T083458Z
URL:https://atriumnormandie.fr/evenements/la-semaine-du-cerveau/
SUMMARY:La Semaine du Cerveau
DESCRIPTION:Infos pratiques\n📍 À l’Atrium📅 Samedi 21 mars 2026⏰ 
 14h30 – 17h👥 Tout public🎟 Gratuit – Sur réservation📝 Réserv
 ation en ligne\nÀ propos de la Semaine du Cerveau\nLa Semaine du Cerveau 
 est un rendez-vous national dédié à la recherche en neurosciences. Elle
  permet au public de rencontrer des scientifiques et de découvrir les ava
 ncées récentes sur le fonctionnement du cerveau.\nLe programme 2026\nKar
 elle Benardais\nMaîtresse de conférences – GRHVN\, Université de Roue
 n\nMicrocosme nerveux : entrelacs histologiques des cellules nerveuses\nLa
  conférence portera sur ses travaux de recherche au sein du Groupe de Rec
 herche sur le Handicap Ventilatoire et Neurologique (GRHVN). Elle proposer
 a un éclairage sur l’organisation histologique des cellules nerveuses e
 t les interactions complexes qui structurent le tissu nerveux.\nMathieu Lo
 zouet\nNeurochirurgien – CHU de Rouen\nDans l’enveloppe du cerveau : m
 ieux comprendre les méningiomes\nLes méningiomes sont des tumeurs dével
 oppées à partir des enveloppes du cerveau. Cette intervention proposera 
 un éclairage sur leur compréhension\, leur diagnostic et leur prise en c
 harge chirurgicale.\nFrançois Cossais\nMaître de conférences – Inserm
  U1073\, Université de Rouen\nLa maladie de Parkinson\, et si tout commen
 çait dans l’intestin ?\nLa maladie de Parkinson est une pathologie neur
 odégénérative dont les mécanismes restent partiellement compris. Cette
  conférence explorera l’hypothèse d’une origine intestinale et les l
 iens entre système digestif et cerveau.\nPartenaires\nSociété des Neuro
 sciencesUniversité de Rouen Normandie\nRéservation\nRéservez votre plac
 e via la billetterie en ligne.\nÉditions précédentes\nChaque année\, l
 a Semaine du Cerveau à l’Atrium permet au public de rencontrer des cher
 cheurs et chercheuses en neurosciences et de découvrir les avancées réc
 entes sur le fonctionnement du cerveau.\nRetrouvez les conférences des é
 ditions précédentes :\nRetour sur la Semaine du Cerveau 2025\nRetour sur
  la Semaine du Cerveau 2024\nRetour sur la Semaine du Cerveau 2023\nLes vi
 déos des conférences sont disponibles en replay.
ATTACH;FMTTYPE=image/jpeg:https://atriumnormandie.fr/app/uploads/1/2024/02
 /iStock-2216010531.jpg
LOCATION:L&#8217;Atrium Normandie\, 115 boulevard de l'Europe 76100  Rouen\
 , France
X-APPLE-STRUCTURED-LOCATION;VALUE=URI;X-ADDRESS=115 boulevard de l'Europe 7
 6100  Rouen\, France;X-APPLE-RADIUS=100;X-TITLE=L’Atrium Normandie:geo:0
 ,0
END:VEVENT
BEGIN:VTIMEZONE
TZID:Europe/Paris
X-LIC-LOCATION:Europe/Paris
BEGIN:STANDARD
DTSTART:20251026T020000
TZOFFSETFROM:+0200
TZOFFSETTO:+0100
TZNAME:CET
END:STANDARD
END:VTIMEZONE
END:VCALENDAR