BEGIN:VCALENDAR
VERSION:2.0
PRODID:-//wp-events-plugin.com//7.1.7//EN
TZID:Europe/Paris
X-WR-TIMEZONE:Europe/Paris
BEGIN:VEVENT
UID:0-290@atriumnormandie.fr
DTSTART;TZID=Europe/Paris:20250211T140000
DTEND;TZID=Europe/Paris:20250211T170000
DTSTAMP:20250206T160429Z
URL:https://atriumnormandie.fr/evenements/journee-internationale-femmes-fi
 lles-sciences/
SUMMARY:Journées Internationale des Femmes &amp\; des Filles de Sciences
DESCRIPTION:Au programme \nToutes les héroïnes ne portent pas de cape !\n
 Un quiz décalé qui va vous challenger sur votre connaissance de l’hist
 oire des sciences mais pas que… Découvrez des portraits et contribution
 s de femmes peu connues qui ont pourtant contribué à changer le monde !T
 out publicHoraires : 14h30\, 15h\, 15h30\, 16h et 16h30 - Durée : environ
  20min.\nVisite "Conquérantes"\nÀ bord du navire “Conquérantes”\, t
 entez de gagner vos galons d’experts des fonds marins et découvrez les 
 aventures de femmes marquantes des sciences et de la navigation.A partir d
 e 12 ans Horaires : 14h\, 15h et 16h - Durée : environ 1h.\nRéserver\nJe
 u de piste "Osez l’Océan !"\nUn jeu de piste à travers l’exposition 
 pour découvrir des portraits de femmes inspirantes et des informations su
 r la place des femmes dans les filières maritimes.A partir de 12 ansHorai
 res : En continu – Durée : environ 30min.\nInformations Pratiques\nLa p
 rogrammation habituelle est maintenue avec exceptionnellement une Visite c
 ontée à 16h15 et le Planétarium à 15h00\, 15h30.
ATTACH;FMTTYPE=image/jpeg:https://atriumnormandie.fr/app/uploads/2024/08/F
 ormat-Prog-1.png
CATEGORIES:Familles,Périscolaire
END:VEVENT
BEGIN:VTIMEZONE
TZID:Europe/Paris
X-LIC-LOCATION:Europe/Paris
BEGIN:STANDARD
DTSTART:20241027T020000
TZOFFSETFROM:+0200
TZOFFSETTO:+0100
TZNAME:CET
END:STANDARD
END:VTIMEZONE
END:VCALENDAR