BEGIN:VCALENDAR
VERSION:2.0
PRODID:-//wp-events-plugin.com//7.1.7//EN
TZID:Europe/Paris
X-WR-TIMEZONE:Europe/Paris
BEGIN:VEVENT
UID:0-261@atriumnormandie.fr
DTSTART;TZID=Europe/Paris:20241017T200000
DTEND;TZID=Europe/Paris:20241017T213000
DTSTAMP:20240930T123556Z
URL:https://atriumnormandie.fr/evenements/forum-philippe-charlier/
SUMMARY:Quand la médecine légale explore l’Histoire avec Philippe Charl
 ier
DESCRIPTION:La conférence de Philippe Charlier est victime de son succès\
 , nous sommes complets ! Mais vous pourrez suivre la conférence en live s
 ur notre chaine Youtube ! \nhttps://www.youtube.com/watch?v=OXn2LsKvpxU\nC
 onférencier : Philippe Charlier\, Médecin légiste\, archéologue\, anth
 ropologue et Directeur du Département de la Recherche et de l’Enseignem
 ent au musée du quai Branly&nbsp\;\nGrâce aux nouvelles techniques de la
  médecine légale et de l'anthropologie\, il est désormais possible d'id
 entifier les maladies et les causes de mort de personnages décédés il y
  a plusieurs siècles\, voire plusieurs millénaires... Qu'ils soient cél
 èbres\, comme Richard Coeur de Lion et Agnès Sorel\, ou anonymes\, ces p
 atients témoignent post-mortem des progrès fantastiques de la science. E
 mpoisonnement\, maladie\, accident ou homicide déguisé\, chaque cas devi
 ent un récit fascinant qui interroge. Un parcours historique de la santé
  par le biais de ces cas énigmatiques qui traversent les époques\, de la
  Préhistoire jusqu'au XIXe siècle\, dans un voyage scientifique et histo
 rique époustouflant.\nÀ propos des Forums Régionaux du Savoir Participe
 z à l'aventure des Forums Régionaux du Savoir\, une série de neuf conf
 érences captivantes qui s'adressent au grand public. Chaque mois\, un exp
 ert reconnu dans le domaine de la recherche scientifique partage ses conna
 issances et engage le dialogue sur des thématiques variées et actuelles.
  Ces soirées de 90 minutes sont une occasion unique de déconstruire les 
 idées reçues\, de démystifier la science et de lutter contre les fake n
 ews. En assistant à ces conférences\, vous découvrirez comment la scien
 ce façonne notre société et comment elle répond aux questions les plus
  pressantes de notre époque. Que vous soyez un passionné de science\, un
  enseignant en quête de ressources pédagogiques\, ou un étudiant désir
 eux d'approfondir vos connaissances\, les Forums Régionaux du Savoir sont
  une ressource inestimable pour explorer le monde scientifique.
ATTACH;FMTTYPE=image/jpeg:https://atriumnormandie.fr/app/uploads/2023/11/P
 hilippe-Charlier.jpeg
CATEGORIES:Forums Régionaux du Savoir,Scolaire
LOCATION:Hôtel de Région de Rouen\, Hôtel de Région de Rouen  5 rue Rob
 ert Schuman  CS 21 129 76157 Rouen \, France
X-APPLE-STRUCTURED-LOCATION;VALUE=URI;X-ADDRESS=Hôtel de Région de Rouen 
  5 rue Robert Schuman  CS 21 129 76157 Rouen \, France;X-APPLE-RADIUS=100;
 X-TITLE=Hôtel de Région de Rouen:geo:0,0
END:VEVENT
BEGIN:VTIMEZONE
TZID:Europe/Paris
X-LIC-LOCATION:Europe/Paris
BEGIN:DAYLIGHT
DTSTART:20240331T030000
TZOFFSETFROM:+0100
TZOFFSETTO:+0200
TZNAME:CEST
END:DAYLIGHT
END:VTIMEZONE
END:VCALENDAR