BEGIN:VCALENDAR
VERSION:2.0
PRODID:-//wp-events-plugin.com//7.1.7//EN
TZID:Europe/Paris
X-WR-TIMEZONE:Europe/Paris
BEGIN:VEVENT
UID:0-262@atriumnormandie.fr
DTSTART;TZID=Europe/Paris:20241121T200000
DTEND;TZID=Europe/Paris:20241121T213000
DTSTAMP:20241112T085616Z
URL:https://atriumnormandie.fr/evenements/forum-mathilde-cannat/
SUMMARY:Révéler les mystères des abysses : Une urgence pour la Terre ave
 c Mathilde Cannat
DESCRIPTION:La conférence de Mathilde Cannat est victime de son succès\, 
 nous sommes complets ! Mais vous pourrez suivre la conférence en live sur
  notre chaine Youtube ! \nhttps://www.youtube.com/watch?v=O2unkmmU28I\nCon
 férencière : Mathilde Cannat\, Directrice de recherche CNRS géosciences
  marines de l’Institut de Physique du Globe de Paris\nLes grands fonds o
 céaniques sont difficiles d’accès\, mais ils ne sont pas la dernière 
 frontière isolée&nbsp\;du monde des&nbsp\;humains que certains imaginent
 . Bien au contraire\, sur 60% de la surface du globe\, ils représentent u
 ne diversité de milieux et de processus essentiels aux équilibres biolog
 iques\, chimiques\, et climatiques de la Planète.&nbsp\;Et les grands fon
 ds sont fragiles\, et encore mal pris en compte par les régulations inter
 nationales. Pour mieux les préserver\, il est temps de les considérer\, 
 et de les étudier\, d’un autre œil : comme une composante dynamique du
  système Terre\, essentielle pour l’habitabilité de notre planète. Dy
 namique sur le temps long\, puisque le plancher océanique est sans cesse 
 renouvelée aux dorsales médio-océaniques\, puis englouti dans le mantea
 u terrestre dans les zones de subduction. Et aux échelles de temps plus c
 ourtes puisque les grands fonds jouent par exemple un rôle majeur pour am
 ortir les effets du changement climatique.\nÀ propos des Forums Régionau
 x du Savoir Participez à l'aventure des Forums Régionaux du Savoir\, une
  série de neuf conférences captivantes qui s'adressent au grand public. 
 Chaque mois\, un expert reconnu dans le domaine de la recherche scientifiq
 ue partage ses connaissances et engage le dialogue sur des thématiques va
 riées et actuelles. Ces soirées de 90 minutes sont une occasion unique d
 e déconstruire les idées reçues\, de démystifier la science et de lutt
 er contre les fake news. En assistant à ces conférences\, vous découvri
 rez comment la science façonne notre société et comment elle répond au
 x questions les plus pressantes de notre époque. Que vous soyez un passio
 nné de science\, un enseignant en quête de ressources pédagogiques\, ou
  un étudiant désireux d'approfondir vos connaissances\, les Forums Régi
 onaux du Savoir sont une ressource inestimable pour explorer le monde scie
 ntifique.
ATTACH;FMTTYPE=image/jpeg:https://atriumnormandie.fr/app/uploads/2023/11/p
 hotoMathilde_Mahato_recadree-scaled.jpeg
CATEGORIES:Forums Régionaux du Savoir,Scolaire
LOCATION:Hôtel de Région de Rouen\, Hôtel de Région de Rouen  5 rue Rob
 ert Schuman  CS 21 129 76157 Rouen \, France
X-APPLE-STRUCTURED-LOCATION;VALUE=URI;X-ADDRESS=Hôtel de Région de Rouen 
  5 rue Robert Schuman  CS 21 129 76157 Rouen \, France;X-APPLE-RADIUS=100;
 X-TITLE=Hôtel de Région de Rouen:geo:0,0
END:VEVENT
BEGIN:VTIMEZONE
TZID:Europe/Paris
X-LIC-LOCATION:Europe/Paris
BEGIN:STANDARD
DTSTART:20241027T020000
TZOFFSETFROM:+0200
TZOFFSETTO:+0100
TZNAME:CET
END:STANDARD
END:VTIMEZONE
END:VCALENDAR