BEGIN:VCALENDAR
VERSION:2.0
PRODID:-//wp-events-plugin.com//7.1.7//EN
TZID:Europe/Paris
X-WR-TIMEZONE:Europe/Paris
BEGIN:VEVENT
UID:0-307@atriumnormandie.fr
DTSTART;TZID=Europe/Paris:20250227T200000
DTEND;TZID=Europe/Paris:20250227T213000
DTSTAMP:20260113T101232Z
URL:https://atriumnormandie.fr/evenements/forum-guillaume-gravier/
SUMMARY:Questions et enjeux scientifiques en IA avec Guillaume Gravier
DESCRIPTION:❗ La conférence de Guillaume Gravier est victime de son succ
 ès\, nous sommes complets ❗\nVous pouvez suivre la conférence en live 
 sur notre chaine Youtube !\nSi vous le souhaitez\, vous pouvez être inscr
 it sur une liste d'attente afin d'être recontacté en cas de désistement
  parmi les inscrit.es. Pour cela\, contactez-nous : \nPar téléphone : 02
  35 98 91 06\nPar email : forum@scienceaction.asso.fr \nConférencier : Gu
 illaume Gravier\, Directeur de Recherche au CNRS\, Directeur de l’Instit
 ut de Recherche en Informatique et Systèmes Aléatoires. \nOn ne parle au
 jourd'hui que d'intelligence artificielle ou presque. Mais au fond\, qu'es
 t-ce que c'est réellement ? Comment fonctionne le "deep learning" qui est
  à la base de la plupart des approches modernes ? Que peut-on vraiment fa
 ire avec ? Et qu'est-ce qu'on ne sait pas bien faire ? Au cours de cette c
 onférence\, nous aborderons ces questions pour pouvoir démystifier ce do
 maine et éclairer les enjeux de la recherche en intelligence artificielle
  aujourd'hui\, mettre en avant les bénéfices de ces technologies mais au
 ssi leurs risques et leurs limites. Ce regard sur l’intelligence artific
 ielle servira à mieux appréhender les conséquences que ces technologies
  et leur usage pourraient avoir sur notre société\, dans de nombreux mé
 tiers. On parlera en particulier de traitement automatique du langage natu
 rel\, de la génération de textes et d'images\, la fameuse IA générativ
 e\, et de l'impact de ces technologies sur l'information et la désinforma
 tion dans nos sociétés.\nÀ propos des Forums Régionaux du Savoir Parti
 cipez à l'aventure des Forums Régionaux du Savoir\, une série de neuf c
 onférences captivantes qui s'adressent au grand public. Chaque mois\, un 
 expert reconnu dans le domaine de la recherche scientifique partage ses co
 nnaissances et engage le dialogue sur des thématiques variées et actuell
 es. Ces soirées de 90 minutes sont une occasion unique de déconstruire l
 es idées reçues\, de démystifier la science et de lutter contre les fak
 e news. En assistant à ces conférences\, vous découvrirez comment la sc
 ience façonne notre société et comment elle répond aux questions les p
 lus pressantes de notre époque. Que vous soyez un passionné de science\,
  un enseignant en quête de ressources pédagogiques\, ou un étudiant dé
 sireux d'approfondir vos connaissances\, les Forums Régionaux du Savoir s
 ont une ressource inestimable pour explorer le monde scientifique.
ATTACH;FMTTYPE=image/jpeg:https://atriumnormandie.fr/app/uploads/2024/12/I
 MG_GG-scaled.jpg
CATEGORIES:Étudiants et Doctorants,Familles,Forums Régionaux du
 Savoir,Lycée
END:VEVENT
BEGIN:VTIMEZONE
TZID:Europe/Paris
X-LIC-LOCATION:Europe/Paris
BEGIN:STANDARD
DTSTART:20241027T020000
TZOFFSETFROM:+0200
TZOFFSETTO:+0100
TZNAME:CET
END:STANDARD
END:VTIMEZONE
END:VCALENDAR