BEGIN:VCALENDAR
VERSION:2.0
PRODID:-//wp-events-plugin.com//7.1.7//EN
TZID:Europe/Paris
X-WR-TIMEZONE:Europe/Paris
BEGIN:VEVENT
UID:0-306@atriumnormandie.fr
DTSTART;TZID=Europe/Paris:20250123T200000
DTEND;TZID=Europe/Paris:20250123T213000
DTSTAMP:20250120T095456Z
URL:https://atriumnormandie.fr/evenements/forum-aude-bernheim/
SUMMARY:Immunité bactérienne : à la découverte d'un nouveau monde avec 
 Aude Bernheim
DESCRIPTION:❗ La conférence de Aude Bernheim est victime de son succès\
 , nous sommes complets ❗\nMais suivez la conférence en live sur notre c
 haine Youtube !\nConférencière : Aude Bernheim\, Chargée de Recherche 
 à l'Institut Pasteur\, Microbiologiste\, Prix du Collège de France 2022\
 nTous les organismes vivants\, de la bactérie à l'éléphant\, font face
  à des virus. Si l'étude des virus des bactéries a un peu plus de cent 
 ans\, la compréhension des mécanismes par lesquels les bactéries se dé
 fendent contre les infections virales s'est pendant longtemps limitée à 
 deux systèmes majeurs. Au cours des dernières années\, le travail de la
  communauté scientifique a permis de découvrir que les bactéries utilis
 ent en fait une diversité immense de systèmes pour lutter contre leurs v
 irus.&nbsp\;\nL'exploration de cette grande diversité de mécanismes mol
 éculaires antiviraux nous amène à repenser l'immunité dans tous les do
 maines de la vie\, ainsi que leur rôle dans l'évolution des systèmes im
 munitaires\, y compris chez l'humain. L'exploration de ces systèmes prome
 t des applications dans les domaines de la biotechnologie et de la santé\
 , mais aussi une meilleure compréhension de la biodiversité microbienne.
 &nbsp\;\nLors de cette conférence\, Aude Bernheim\, retracera l'histoire 
 et présentera les perspectives de cette discipline scientifique naissante
  qu'est l'étude de l'immunité bactérienne.\nÀ propos des Forums Régio
 naux du Savoir Participez à l'aventure des Forums Régionaux du Savoir\, 
 une série de neuf conférences captivantes qui s'adressent au grand publi
 c. Chaque mois\, un expert reconnu dans le domaine de la recherche scienti
 fique partage ses connaissances et engage le dialogue sur des thématiques
  variées et actuelles. Ces soirées de 90 minutes sont une occasion uniqu
 e de déconstruire les idées reçues\, de démystifier la science et de l
 utter contre les fake news. En assistant à ces conférences\, vous décou
 vrirez comment la science façonne notre société et comment elle répond
  aux questions les plus pressantes de notre époque. Que vous soyez un pas
 sionné de science\, un enseignant en quête de ressources pédagogiques\,
  ou un étudiant désireux d'approfondir vos connaissances\, les Forums R
 égionaux du Savoir sont une ressource inestimable pour explorer le monde 
 scientifique.
ATTACH;FMTTYPE=image/jpeg:https://atriumnormandie.fr/app/uploads/2024/12/p
 ortrait.jpg
CATEGORIES:Étudiants et Doctorants,Familles,Forums Régionaux du
 Savoir,Lycée
END:VEVENT
BEGIN:VTIMEZONE
TZID:Europe/Paris
X-LIC-LOCATION:Europe/Paris
BEGIN:STANDARD
DTSTART:20241027T020000
TZOFFSETFROM:+0200
TZOFFSETTO:+0100
TZNAME:CET
END:STANDARD
END:VTIMEZONE
END:VCALENDAR