BEGIN:VCALENDAR
VERSION:2.0
PRODID:-//wp-events-plugin.com//7.1.7//EN
TZID:Europe/Paris
X-WR-TIMEZONE:Europe/Paris
BEGIN:VEVENT
UID:0-316@atriumnormandie.fr
DTSTART;TZID=Europe/Paris;VALUE=DATE:20250304
DTEND;TZID=Europe/Paris;VALUE=DATE:20250305
DTSTAMP:20260113T101256Z
URL:https://atriumnormandie.fr/evenements/femmes-puissantes-du-maritime/
SUMMARY:Conférence "Femmes puissantes du maritime" #2
DESCRIPTION:Réservez votre place\nPilier essentiel de notre économie mond
 iale\, la filière du maritime reste entourée de nombreux clichés\, en p
 articulier sur la place des femmes. Pour y remédier\, WISTA France organi
 se la deuxième édition de sa conférence "Femmes Puissantes du Maritime"
 \, un événement riche en échanges et en inspirations qui avait rassembl
 é pas moins de 100 personnes au Havre l’an dernier.\nDate : Mardi 4 mar
 s 2025\nDurée de la conférence : 1h + questions\nPublic cible : Grand pu
 blic (gratuit sur inscription)\, étudiants\, doctorants\, et scolaires (
 à partir de la 4e)\nLieu : L'Atrium\, Rouen\nAu programme\nPour le grand 
 public \nDès 18h30\, place à un regard croisé avec trois intervenantes 
 d’exception :&nbsp\;&nbsp\;\nAicha Demarest : directrice de l'agence du 
 Havre - Groupe RDT : transport\, logistique et Supply Chain Maritime \;\nC
 atherine Cornu : première Femme francaise à devenir pilote Maritime\, ac
 tuellement à la station de pilotage de la Seine Caen Dieppe \;\nDiana Mes
 sa : directrice générale de TOWT (transport maritime voile durable).\n
 🍸 Pour clôturer la soirée\, un cocktail convivial permettra de poursu
 ivre les discussions dans une ambiance détendue.&nbsp\;\nRéservez votre 
 place\nPour les groupes scolaires\nDe 16h à 18h : profitez avec vos élè
 ves d’une entrée à l’exposition “Océan\, une plongée insolite en
  Normandie” avec un programme exclusif et des activités au choix :\nUne
  session de recrutement fictive pour intégrer la mission SWOT : sous la f
 orme de quiz et/ou de mini-jeu\, les élèves tenteront de passer les 3 ni
 veaux de recrutement. Entre chaque\, une vidéo d’un chercheur sera diff
 usée pour compléter les éléments de réponse et ouvrir les notions abo
 rdées.\nUn escape-game “Gardiens des abysses” où vos élèves devron
 t résoudre des énigmes liées à la biodiversité\, la préservation des
  océans\, et aux métiers maritimes normands \;\nUne visite guidée “Ea
 ux et climat en Normandie” qui permet aux élèves de comprendre les enj
 eux climatiques régionaux tout en s'engageant dans des discussions scient
 ifiques.\nÀ 18h30\, place à un regard croisé avec trois intervenantes d
 ’exception :&nbsp\;&nbsp\;\nAicha Demarest : directrice de l'agence du H
 avre - Groupe RDT : transport\, logistique et Supply Chain Maritime \;\nCa
 therine Cornu : première Femme francaise à devenir pilote Maritime\, act
 uellement à la station de pilotage de la Seine Caen Dieppe \;\nDiana Mesa
  : directrice générale de TOWT (transport maritime voile durable).\nPour
  clôturer la soirée\, un temps d’échange privilégié aura lieu entre
  les élèves et les intervenantes afin de poursuivre les discussions dans
  une ambiance détendue.\nRejoignez-nous pour cette soirée exceptionnelle
  et inspirante qui met à l’honneur les femmes puissantes du maritime et
  leurs contributions au monde de demain.\nPartenaire\nWista France : Rése
 au international de femmes qui occupent des postes à responsabilités dan
 s le secteur maritime. WISTA France promeut la place et le rôle des femme
 s depuis 2004 afin de renforcer la mixité Femmes-Hommes\, gage de perform
 ance\, d’équilibre\, d’attractivité\, de développement durable et r
 esponsable des secteurs du maritime français.\nRenseignements et Inscript
 ions\nScolaires : pour inscrire votre classe\, contactez-nous ou inscrivez
 -vous ici :\n📞 02 35 98 91 06\n📧 reservation@scienceaction.asso.fr\n
 💻 Formulaire de contact scolaire\nLe transport peut être pris en charg
 e pour les établissements hors métropole rouennaise.
ATTACH;FMTTYPE=image/jpeg:https://atriumnormandie.fr/app/uploads/2025/02/F
 ormat-Prog.png
CATEGORIES:Cycle 4,Étudiants et Doctorants,Familles,Lycée,Scolaire
END:VEVENT
BEGIN:VTIMEZONE
TZID:Europe/Paris
X-LIC-LOCATION:Europe/Paris
BEGIN:STANDARD
DTSTART:20241027T020000
TZOFFSETFROM:+0200
TZOFFSETTO:+0100
TZNAME:CET
END:STANDARD
END:VTIMEZONE
END:VCALENDAR