BEGIN:VCALENDAR
VERSION:2.0
PRODID:-//wp-events-plugin.com//7.1.7//EN
TZID:Europe/Paris
X-WR-TIMEZONE:Europe/Paris
BEGIN:VEVENT
UID:0-285@atriumnormandie.fr
DTSTART;TZID=Europe/Paris;VALUE=DATE:20260504
DTEND;TZID=Europe/Paris;VALUE=DATE:20260505
DTSTAMP:20260219T095047Z
URL:https://atriumnormandie.fr/evenements/debattre-sans-se-battre-concours
 -deloquence-scientifique/
SUMMARY:Débattre sans se battre - concours d'éloquence scientifique
DESCRIPTION:Nous utilisons l’intelligence artificielle et le numérique a
 u quotidien pour communiquer\, nous informer\, travailler ou nous divertir
 . Mais :👉 Quel est leur impact environnemental ?👉 Quelle est leur co
 nsommation énergétique ?👉 Ce modèle est-il durable à long terme ?\n
 Avec Débattre sans se battre\, vos élèves explorent ces questions à tr
 avers un concours d’éloquence scientifique unique en Normandie.Encadré
 s par un médiateur scientifique et une compagnie de théâtre\, ils appre
 nnent à décrypter l’information\, à construire un discours argumenté
  et à défendre leurs idées en public.\nUn projet pluridisciplinaire\, i
 déal pour mobiliser plusieurs matières (sciences\, français\, philosoph
 ie\, histoire-géographie) et préparer efficacement le Grand oral.\nInfor
 mations pratiques\n📍 Lieu : Dans l’établissement scolaire et à l'At
 rium \n👨‍🏫 Public : Classes de Seconde\n🗓️ Dates : Décembre 
 2025 → mai 2026 (calendrier défini avec chaque établissement à l’au
 tomne 2025)\n⏱️ Durée totale : 28 heures\n👥 Capacité : 1 classe p
 ar établissement (3 classes maximum)\n🚌 Transport : Pris en charge ent
 re l’établissement et l’Atrium\n🎟️ Tarif : Gratuit \nProgramme 2
 025-2026\n3 séquences thématiques avec un médiateur scientifique (2h + 
 3×3h) → au sein de l’établissement\n3 séquences de formation théâ
 trale avec un comédien professionnel (3×3h) → au sein de l’établiss
 ement\n1 journée à l’Atrium - Rouen : visite de l’exposition Destina
 tion IA\, un atelier et conférence (≈ 6h avec pause déjeuner)\n1 journ
 ée finale à l’Atrium - Rouen : répétitions le matin + concours l’a
 près-midi (≈ 5h avec pause déjeuner)\nObjectifs pédagogiques\nSavoir 
 s’informer : rechercher\, recueillir et analyser des données fiables.\n
 Comprendre l’information scientifique : décrypter la démarche scientif
 ique.\nConstruire une argumentation : présenter un discours structuré et
  convaincant.\nSavoir débattre : défendre ses idées clairement\, dével
 opper son éloquence et participer à des échanges constructifs.\nComment
  l'insérer dans votre agenda scolaire\nVous pouvez associer plusieurs dis
 ciplines à ce projet\, telles que les enseignements scientifiques\, le fr
 ançais\, la philosophie\, et l’histoire-géographie\, pour réaliser le
  projet au sein de votre classe. Les compétences acquises à travers ce p
 rogramme sont transférables et bénéfiques dans toutes ces matières\, n
 otamment en préparation du grand oral.\nPartenaires\nOpération soutenue 
 par l’État dans le cadre de l’AMI Compétences et Métiers d’Avenir
  – France 2030 (opéré par la Caisse des Dépôts)\nFondation Engagemen
 t Médias Jeunes : La Fondation Engagement Médias pour les Jeunes soutien
 t des projets audiovisuels\, numériques et culturels pour favoriser l’i
 nclusion des jeunes\, développer leur expression et renforcer leur confia
 nce en France et Outre-Mer.\nINRIA : Institut national de recherche en sci
 ences et technologies du numérique\, pilote depuis 2024 l’Agence de pro
 grammes pour renforcer recherche et enseignement supérieur. Avec 3 800 ch
 ercheurs\, il associe excellence scientifique\, innovation et entrepreneur
 iat.\nBasé sur un concept original développé par l'IFREMER\nAvec la par
 ticipation de Manon Thorel et Hélène Francisci\, comédiennes et autrice
 s de la compagnie Une chambre à soi\, unissent leur expérience du théâ
 tre\, de l’écriture et de la lecture à voix haute. Elles mèneront ens
 emble ce projet\, mêlant créations scéniques et ateliers interactifs.\n
 Renseignements\nLinsay ROSEMAIN-VELIX\n✉️ l.rosemain-velix@scienceacti
 on.asso.fr 📞 02 35 98 91 06\nRetour sur l’édition 2024-2025\n👉 D
 écouvrez le bilan\, les photos et les temps forts de la première éditio
 n (thème : pêche durable) dans notre article : Retour sur l’édition 2
 024
ATTACH;FMTTYPE=image/jpeg:https://atriumnormandie.fr/app/uploads/2024/07/D
 ebattre-Hero-Site-web.png
CATEGORIES:Lycée,Scolaire
END:VEVENT
BEGIN:VTIMEZONE
TZID:Europe/Paris
X-LIC-LOCATION:Europe/Paris
BEGIN:DAYLIGHT
DTSTART:20260329T030000
TZOFFSETFROM:+0100
TZOFFSETTO:+0200
TZNAME:CEST
END:DAYLIGHT
END:VTIMEZONE
END:VCALENDAR