BEGIN:VCALENDAR
VERSION:2.0
PRODID:-//wp-events-plugin.com//7.1.7//EN
TZID:Europe/Paris
X-WR-TIMEZONE:Europe/Paris
BEGIN:VEVENT
UID:0-315@atriumnormandie.fr
DTSTART;TZID=Europe/Paris;VALUE=DATE:20250308
DTEND;TZID=Europe/Paris;VALUE=DATE:20250312
DTSTAMP:20260113T101314Z
URL:https://atriumnormandie.fr/evenements/conference-sirenes/
SUMMARY:Conférence Sirènes !
DESCRIPTION:Voyage au cœur d’un mythe intemporel et captivant\nMystérie
 uses\, envoûtantes et parfois menaçantes\, les sirènes peuplent nos ima
 ginaires depuis l’Antiquité. Elles ont séduit Ulysse\, inspiré artist
 es\, écrivain.es et chanteur.euses\, mais qui sont-elles vraiment ? Des l
 égendes antiques au live-action de Disney\, en passant par le conte d’A
 ndersen\, plongez dans l’histoire fascinante de ce mythe et de ses réin
 ventions modernes. Accompagnés d’une enseignante-chercheuse et d’une 
 comédienne\, assistez à une conférence-spectacle inédite mêlant analy
 se\, décryptage et performance. Une rencontre immersive et passionnante p
 our mieux comprendre ces créatures légendaires\, l’évolution de leur 
 symbolique et ce qu’elles révèlent des différentes époques qu’elle
 s ont traversées.\nUn voyage en deux temps\nPour le grand public : \n Le 
 Samedi 8 Mars de 15h à 16h \nÀ partir de 10 ans\nPour permettre aux pare
 nts et adolescents de profiter pleinement de l’événement\, une prise e
 n charge gratuite est proposée pour les plus jeunes. Les enfants à parti
 r de 3 ans\, pourront assister à une visite contée de l’exposition "Oc
 éan\, une plongé insolite en Normandie" ainsi qu’à un Ciné-labo\, un
 e projection du court-métrage jeunesse (en partenariat avec le Courtivore
 ) suivie d’un atelier ludique autour du monde marin.\nRéserver ma place
 \nPour les scolaires : \n Le Mardi 11 Mars de 14h à 15h \nÀ partir de la
  4ème\nPour inscrire votre classe\, contactez-nous ou inscrivez-vous ici 
 :\n📞 02 35 98 91 06\n📧 reservation@scienceaction.asso.fr\n💻 Formu
 laire de contact scolaire\nIntervenantes\nIsabelle Gassino\, Maîtresse de
  conférences en études grecques et membre de l’unité de recherches ER
 IAC\, Université de Rouen Normandie\nAgathe Lenne\, comédienne\, compagn
 ie Compartiment 7\nPartenaires\nCette animation est réalisée dans le cad
 re de la programmation Rouen donne des elles 2025 (Ville de Rouen).
ATTACH;FMTTYPE=image/jpeg:https://atriumnormandie.fr/app/uploads/2025/01/C
 onference_Sirenes_final1920x1080.jpg
CATEGORIES:Cycle 4,Étudiants et Doctorants,Familles,Lycée,Scolaire
END:VEVENT
BEGIN:VTIMEZONE
TZID:Europe/Paris
X-LIC-LOCATION:Europe/Paris
BEGIN:STANDARD
DTSTART:20241027T020000
TZOFFSETFROM:+0200
TZOFFSETTO:+0100
TZNAME:CET
END:STANDARD
END:VTIMEZONE
END:VCALENDAR