BEGIN:VCALENDAR
VERSION:2.0
PRODID:-//wp-events-plugin.com//7.1.7//EN
TZID:Europe/Paris
X-WR-TIMEZONE:Europe/Paris
BEGIN:VEVENT
UID:0-282@atriumnormandie.fr
DTSTART;TZID=Europe/Paris:20241004T090000
DTEND;TZID=Europe/Paris:20241014T170000
DTSTAMP:20260113T100854Z
URL:https://atriumnormandie.fr/evenements/atrium-en-fete-scolaire/
SUMMARY:L'Atrium en Fête - Spécial Groupes Scolaires
DESCRIPTION:La Fête de la Science\nParticipez au plus grand festival scien
 tifique en Normandie ! La Fête de la Science\, organisée depuis 1991\, r
 evient cette année du 4 au 14 octobre 2024 avec plus de 280 opérations a
 u programme. En Normandie\, cet événement est co-coordonné par Le Dôme
  et Science Action Normandie\, avec le soutien de l'État\, de l'Académie
  de Normandie\, et de nombreux partenaires régionaux.\nChaque année\, de
 s milliers de chercheurs\, entrepreneurs et médiateurs se mobilisent pour
  partager leur passion pour la science à travers des animations gratuites
  et festives. En Normandie\, la Fête de la Science attire plus de 45 000 
 visiteurs\, dont 12 000 scolaires\, grâce à la mobilisation de 500 struc
 tures. C'est une occasion unique pour les élèves de découvrir la scienc
 e de manière ludique et interactive\, de rencontrer des chercheurs et d'e
 xplorer des innovations fascinantes.\nThématique 2024 : Océan de Savoirs
 \nCette année\, la Fête de la Science se concentre sur l'océan avec le 
 thème "Océan de Savoirs". Les élèves découvriront comment l'océan\, 
 couvrant 70% de la surface de notre planète et contenant 97% de l'eau sur
  Terre\, joue un rôle central dans l'avenir de la Terre et de l'Humanité
 . La France\, avec ses 20 000 kilomètres de côtes et ses 10 millions de 
 kilomètres carrés de surface maritime\, est en première ligne pour expl
 orer et protéger cet immense patrimoine.\nLes élèves seront sensibilis
 és à l'importance de la biodiversité marine\, aux recherches en cours p
 our une gestion durable des ressources marines et à l'influence de l'océ
 an sur la régulation du climat. À travers des activités interactives\, 
 ils comprendront les enjeux de la protection de l'océan contre les impact
 s des activités humaines et découvriront les nombreuses disciplines scie
 ntifiques mobilisées pour étudier ce milieu complexe. La thématique "Oc
 éan de Savoirs" est une invitation à repousser les horizons de nos conna
 issances scientifiques\, en mettant en lumière l'importance de la préser
 vation de notre patrimoine maritime pour les générations futures.\nProgr
 ammation pour les groupes scolaires\nVisite Contée de l'exposition Océan
 \n📅 Du 4 au 14 octobre Adaptée pour les enfants de 3 à 8 ans\, cette 
 visite ludique se présente sous la forme d'un conte animé par un plongeu
 r\, un poulpe et un capitaine de bateau. Les enfants\, transformés en ban
 c de sardines\, partent à la découverte des mystères de l'océan et ren
 contrent en chemin diverses espèces aux caractéristiques étonnantes. Ce
 tte aventure captivante les mène jusqu'à la terre ferme\, leur permettan
 t de découvrir la Normandie sous un nouvel angle.\nEscape game "Gardiens 
 des Abysses"\n📅 Du 4 au 14 octobre Vivez une aventure palpitante grâce
  à notre escape game “Gardiens des Abysses” et transformez votre visi
 te de l’exposition Océan en un jeu passionnant ! Les Gardiens des Abyss
 es\, une équipe de chercheurs\, doit explorer et décrypter des signaux 
 étranges émanant du fond de la Manche. Une aventure pleine de mystères 
 et de découvertes vous attend !\nConf-Hybride avec Nadia Ameziane\n📅 L
 e 4 octobre Découvrez l'exposition Océan à travers une conférence hybr
 ide\, combinant conférence et visite guidée\, animée par Nadia Ameziane
 \, commissaire de l'exposition Océan et cheffe de la station marine de Co
 ncarneau. Vos élèves participeront à un safari-photo commenté\, explor
 ant les merveilles des océans tout en découvrant le parcours inspirant d
 e cette femme exceptionnelle.\nAteliers pratiques du Muséum\n📅 Le 7 et
  le 10 Octobre Assistez à des ateliers pratiques animés par le Muséum d
 ’Histoire Naturelle de Rouen et le musée des Antiquités pour découvri
 r les merveilles de la nature. Découvrez la biodiversité\, identifiez de
 s spécimens\, et embarquez pour un voyage éducatif à travers les cultur
 es et les trésors naturels du monde entier.\nRetour de voyage\nÀ l'image
  des grands scientifiques et explorateurs\, laissez-vous émerveiller par 
 la biodiversité et essayez d'identifier les spécimens rapportés de leur
 s expéditions.\nPars à l’aventure\nCet atelier vous embarque pour un v
 oyage éducatif à travers les cultures et les trésors naturels du monde 
 entier grâce à l’exploration de quatre types de bateaux — Knorr\, fe
 louque\, galet\, et pirogue — chacun représentant un continent : Améri
 que du Sud\, Afrique\, Océanie\, et Europe. Découvrez aussi quatre merve
 illes naturelles : le bois de braise\, le scarabée\, le kakapo et le loup
 .\nLabo d'eau\n📅 Le 7 octobre Animé par l'association CARDERE\, cet at
 elier permet aux élèves de se mettre dans la peau d'un technicien de la 
 qualité de l'eau. Après une dégustation d'eau et différents tests (pH\
 , dureté\, nitrate\, etc.)\, ils seront capables d'identifier la potabili
 té des échantillons présentés. Au travers de cette animation\, ils s'i
 nitient à la démarche scientifique et mènent une réflexion sur la ress
 ource en eau\, son usage domestique et sa potabilité.\nExplore ta science
 \n📅 10 &amp\; 11 octobre Participez à un programme de deux jours visan
 t à déconstruire les stéréotypes liés aux carrières scientifiques. C
 omprenant des visites thématiques\, des séances de coaching\, un atelier
  sur la mixité et une rencontre avec des femmes de science inspirantes\, 
 ce programme offre une réflexion approfondie sur l'orientation et les car
 rières scientifiques.\nRencontre avec Marie Sciboz\n📅 11 octobre Marie
  Sciboz\, hydrographe et cheffe de l’entreprise CERES\, viendra rencontr
 er vos élèves. Cet atelier offre l'opportunité de découvrir les métie
 rs liés au maritime et le parcours unique de cette femme qui a su allier 
 science et business.\nRencontre avec Bastien Lemaire\n📅 14 octobre Renc
 ontrez l'ambassadeur régional de la Fête de la Science 2024\, Bastien Le
 maire\, chercheur post-doctorant au sein du laboratoire EthoS de l'univers
 ité de Caen Normandie. Bastien mène des recherches sur l'impact du réch
 auffement et de l'acidification des océans sur les instincts des seiches\
 , un sujet crucial pour anticiper les conséquences du changement climatiq
 ue.\nCiné Labo\n📅 14 octobre Regardez des courts-métrages et réalise
 z des expériences scientifiques pour les plus jeunes.\nHoraires d'ouvertu
 re  \nDu 4 au 14 octobre 2024\nLundi &gt\; 9h00 - 17h00\nMardi &gt\; 9h00 
 - 17h00\nMercredi &gt\; 14h00 - 18h00\nJeudi &gt\; 9h00 - 17h00\nVendredi 
 &gt\; 9h00 - 17h00\nRenseignements et réservations\nN'hésitez pas à nou
 s contacter :- par téléphone au 02 35 98 91 06- par mail reservation@sci
 enceaction.asso.fr- via sur le formulaire de contact
ATTACH;FMTTYPE=image/jpeg:https://atriumnormandie.fr/app/uploads/2024/07/F
 estival_Atrium_En_Fete_FDS24_RS_post_1080x1080-copie.png
CATEGORIES:Scolaire
END:VEVENT
BEGIN:VTIMEZONE
TZID:Europe/Paris
X-LIC-LOCATION:Europe/Paris
BEGIN:DAYLIGHT
DTSTART:20240331T030000
TZOFFSETFROM:+0100
TZOFFSETTO:+0200
TZNAME:CEST
END:DAYLIGHT
END:VTIMEZONE
END:VCALENDAR