BEGIN:VCALENDAR
VERSION:2.0
PRODID:-//wp-events-plugin.com//7.1.7//EN
TZID:Europe/Paris
X-WR-TIMEZONE:Europe/Paris
BEGIN:VEVENT
UID:0-302@atriumnormandie.fr
DTSTART;TZID=Europe/Paris:20241203T173000
DTEND;TZID=Europe/Paris:20241203T193000
DTSTAMP:20260113T101050Z
URL:https://atriumnormandie.fr/evenements/apero-expo/
SUMMARY:🥂 Apéro Expo - Spécial Enseignants
DESCRIPTION:Le Programme \nL'Atrium est ravi de convier les enseignants à 
 une soirée spéciale Apéro Expo le mardi 3 décembre\, de 17h30 à 19h30
 .\nRejoignez-nous entre collègues ou en famille pour une soirée unique 
 à l'Atrium avec au programme :\n🟡 Découverte de la nouvelle offre pé
 dagogique&nbsp\;et de toutes nos nouveautés&nbsp\;dans une ambiance immer
 sive.\n🟡 Visite guidée de l'exposition "Océan" et séance de planéta
 rium pour (re)découvrir nos différents espaces avec 2 départs pour chaq
 ue activité à 18h et 18h45. \n🟡 Rencontre avec notre équipe\,&nbsp\;
 prête à répondre à toutes vos questions et à vous aider à planifier 
 une visite avec vos élèves.\n🟡 Pot et goodies&nbsp\;de l'exposition o
 fferts toute la soirée.&nbsp\;\nÉvénement gratuit sur inscription pour 
 les enseignants et leur famille.&nbsp\;\nInscription obligatoire\nRenseign
 ements\nN'hésitez pas à nous contacter :- par téléphone au 02 35 98 91
  06- par mail reservation@scienceaction.asso.fr- via sur le formulaire de 
 contact
ATTACH;FMTTYPE=image/jpeg:https://atriumnormandie.fr/app/uploads/2023/11/7
 .png
CATEGORIES:Scolaire
END:VEVENT
BEGIN:VTIMEZONE
TZID:Europe/Paris
X-LIC-LOCATION:Europe/Paris
BEGIN:STANDARD
DTSTART:20241027T020000
TZOFFSETFROM:+0200
TZOFFSETTO:+0100
TZNAME:CET
END:STANDARD
END:VTIMEZONE
END:VCALENDAR