BEGIN:VCALENDAR
VERSION:2.0
PRODID:-//wp-events-plugin.com//7.1.7//EN
TZID:Europe/Paris
X-WR-TIMEZONE:Europe/Paris
BEGIN:VEVENT
UID:0-361@atriumnormandie.fr
DTSTART;TZID=Europe/Paris:20260310T173000
DTEND;TZID=Europe/Paris:20260310T193000
DTSTAMP:20260304T100212Z
URL:https://atriumnormandie.fr/evenements/apero-expo-enseignants/
SUMMARY:Apéro Expo enseignants
DESCRIPTION:Infos pratiques\n📍 À l’Atrium📅 Mardi 10 mars 2026⏰ 1
 7h30 – 19h30🎟 Événement gratuit pour les enseignants et leurs accom
 pagnateurs&nbsp\;(inscription obligatoire)📝 Inscription\nUne soirée d
 édiée aux enseignants\nScience Action Normandie vous invite à découvri
 r DESTINATION IA\, la nouvelle exposition consacrée à l’intelligence a
 rtificielle à l'Atrium\, lors d’un Apéro Expo spécialement organisé 
 pour les enseignants.\nCe temps convivial est l’occasion de découvrir l
 ’exposition\, rencontrer l’équipe de médiation et préparer une futu
 re visite avec votre classe.\nVous pourrez également découvrir les resso
 urces pédagogiques et l’offre scolaire proposées autour de l’exposit
 ion.\nLes enseignants peuvent venir entre collègues ou accompagnés (adul
 tes ou enfants).\nProgramme\n17h30 — Accueil\n18h00 — Visite guidée d
 e l’exposition DESTINATION IA\n18h45 — Présentation du dispositif de 
 médiation Watt’s Up Robot\nEn continu :\nvisites libres de l’expositi
 on\néchanges avec l’équipe de médiation\nprésentation de l’offre s
 colaire\ndécouverte des ressources pédagogiques (dossier pédagogique\, 
 livret-jeu…)\n🥂 Pot convivial offert\nVous ne pouvez pas venir ?\nUn 
 webinaire d’information est proposé pour découvrir l’offre scolaire 
 et poser vos questions.\n📅 Mercredi 11 mars 2026👉 Inscription au web
 inaire
ATTACH;FMTTYPE=image/jpeg:https://atriumnormandie.fr/app/uploads/1/2026/02
 /Atrium-—-Destination-IA-©-Pierre-Galliot-—-Region-Normandie-16-scale
 d.jpg
CATEGORIES:Scolaire
END:VEVENT
BEGIN:VTIMEZONE
TZID:Europe/Paris
X-LIC-LOCATION:Europe/Paris
BEGIN:STANDARD
DTSTART:20251026T020000
TZOFFSETFROM:+0200
TZOFFSETTO:+0100
TZNAME:CET
END:STANDARD
END:VTIMEZONE
END:VCALENDAR